BEGIN:VCALENDAR
VERSION:2.0
PRODID:-//OVERHEAT Project - ECPv6.8.3//NONSGML v1.0//EN
CALSCALE:GREGORIAN
METHOD:PUBLISH
X-ORIGINAL-URL:https://overheat-project.eu
X-WR-CALDESC:Events for OVERHEAT Project
REFRESH-INTERVAL;VALUE=DURATION:PT1H
X-Robots-Tag:noindex
X-PUBLISHED-TTL:PT1H
BEGIN:VTIMEZONE
TZID:Europe/Rome
BEGIN:DAYLIGHT
TZOFFSETFROM:+0100
TZOFFSETTO:+0200
TZNAME:CEST
DTSTART:20240331T010000
END:DAYLIGHT
BEGIN:STANDARD
TZOFFSETFROM:+0200
TZOFFSETTO:+0100
TZNAME:CET
DTSTART:20241027T010000
END:STANDARD
END:VTIMEZONE
BEGIN:VEVENT
DTSTART;TZID=Europe/Rome:20240724T080000
DTEND;TZID=Europe/Rome:20240727T170000
DTSTAMP:20260420T060727
CREATED:20240731T151225Z
LAST-MODIFIED:20240731T151225Z
UID:12662-1721808000-1722099600@overheat-project.eu
SUMMARY:OVERHEAT PROJECT PRESENTED @ AHFE 2024  CONFERENCE
DESCRIPTION:
URL:https://overheat-project.eu/event/overheat-project-presented-ahfe-2024-conference/
LOCATION:Université Côte d’Azur\, Nice\, France
END:VEVENT
BEGIN:VEVENT
DTSTART;TZID=Europe/Rome:20240520T080000
DTEND;TZID=Europe/Rome:20240521T170000
DTSTAMP:20260420T060727
CREATED:20240701T161201Z
LAST-MODIFIED:20240701T161940Z
UID:12538-1716192000-1716310800@overheat-project.eu
SUMMARY:DITS @ ICTS 2024
DESCRIPTION:The OVERHEAT Project was presented at the 21st International Conference on Transport Science (ICTS).  The presentation\, delivered by Stefano Ricci (DITS) focused on one of the project’s objectives\, which aims to improve the safety of maritime container transport by developing innovative digital fire management solutions.
URL:https://overheat-project.eu/event/dits-icts-2024/
LOCATION:Grand Hotel Bernardin\, Portoroz\, Slovenia
END:VEVENT
BEGIN:VEVENT
DTSTART;VALUE=DATE:20240131
DTEND;VALUE=DATE:20240202
DTSTAMP:20260420T060727
CREATED:20240701T160702Z
LAST-MODIFIED:20240701T160755Z
UID:12535-1706659200-1706831999@overheat-project.eu
SUMMARY:Kickoff Meeting
DESCRIPTION:
URL:https://overheat-project.eu/event/kickoff-meeting/
LOCATION:IMAT\, Viale degli Oleandri\, 1\, Castel Volturno\, CE\, 81030\, Italy
END:VEVENT
END:VCALENDAR